BEGIN:VCALENDAR
VERSION:2.0
PRODID:-//Tukios.com/
BEGIN:VEVENT
UID:0dde70d7-7107-40b0-94fc-472a4e35d2f2@www.rogersfuneralhome.com
DTSTAMP:20260420T204047Z
DTSTART:20260422T180000Z
DTEND:20260422T200000Z
SUMMARY:Visitation
DESCRIPTION:
URL:https://www.rogersfuneralhome.com/obituaries/jody-rollins
LOCATION: 400 Laurel Ave  South Pittsburg TN 37380
GEO:35.0121093;-85.7096124
END:VEVENT
END:VCALENDAR