BEGIN:VCALENDAR
VERSION:2.0
PRODID:-//Tukios.com/
BEGIN:VEVENT
UID:5fe860a2-7f6d-4376-8886-d7dc818207c2@www.rogersfuneralhome.com
DTSTAMP:20260420T204627Z
DTSTART:20260422T200000Z
DTEND:20260422T210000Z
SUMMARY:Funeral Service
DESCRIPTION:
URL:https://www.rogersfuneralhome.com/obituaries/jody-rollins
LOCATION: 400 Laurel Ave  South Pittsburg TN 37380
GEO:35.0121093;-85.7096124
END:VEVENT
END:VCALENDAR