BEGIN:VCALENDAR
VERSION:2.0
PRODID:-//Tukios.com/
BEGIN:VEVENT
UID:16b75da4-aa94-41e3-93f2-a81848ebdcd7@www.rogersfuneralhome.com
DTSTAMP:20260422T220030Z
DTSTART:20260425T210000Z
DTEND:20260426T000000Z
SUMMARY:Visitation
DESCRIPTION:
URL:https://www.rogersfuneralhome.com/obituaries/mary-westmoreland
LOCATION:Jasper Chapel of Rogers Funeral Home 21 East 5th Street  Jasper 
	TN 37347
GEO:35.0770392;-85.624514
END:VEVENT
END:VCALENDAR