BEGIN:VCALENDAR
VERSION:2.0
PRODID:-//Tukios.com/
BEGIN:VEVENT
UID:4a47133a-338e-4632-88f9-aaff43703e1a@www.rogersfuneralhome.com
DTSTAMP:20260422T220259Z
DTSTART:20260426T170000Z
DTEND:20260426T190000Z
SUMMARY:Visitation
DESCRIPTION:
URL:https://www.rogersfuneralhome.com/obituaries/mary-westmoreland
LOCATION:Jasper Chapel of Rogers Funeral Home 21 East 5th Street  Jasper 
	TN 37347
GEO:35.0770392;-85.624514
END:VEVENT
END:VCALENDAR