BEGIN:VCALENDAR
VERSION:2.0
PRODID:-//Tukios.com/
BEGIN:VEVENT
UID:0c77ccfc-fec3-43e3-af59-50df5a8a2bda@www.rogersfuneralhome.com
DTSTAMP:20260422T215821Z
DTSTART:20260426T190000Z
DTEND:20260426T200000Z
SUMMARY:Funeral Service
DESCRIPTION:
URL:https://www.rogersfuneralhome.com/obituaries/mary-westmoreland
LOCATION:Jasper Chapel of Rogers Funeral Home 21 East 5th Street  Jasper 
	TN 37347
GEO:35.0770392;-85.624514
END:VEVENT
END:VCALENDAR